BEGIN:VCALENDAR
VERSION:2.0
PRODID:-//OneEastside - ECPv6.7.0//NONSGML v1.0//EN
CALSCALE:GREGORIAN
METHOD:PUBLISH
X-WR-CALNAME:OneEastside
X-ORIGINAL-URL:https://oneeastside.org
X-WR-CALDESC:Events for OneEastside
REFRESH-INTERVAL;VALUE=DURATION:PT1H
X-Robots-Tag:noindex
X-PUBLISHED-TTL:PT1H
BEGIN:VTIMEZONE
TZID:America/Los_Angeles
BEGIN:DAYLIGHT
TZOFFSETFROM:-0800
TZOFFSETTO:-0700
TZNAME:PDT
DTSTART:20210314T100000
END:DAYLIGHT
BEGIN:STANDARD
TZOFFSETFROM:-0700
TZOFFSETTO:-0800
TZNAME:PST
DTSTART:20211107T090000
END:STANDARD
END:VTIMEZONE
BEGIN:VEVENT
DTSTART;TZID=America/Los_Angeles:20211207T100000
DTEND;TZID=America/Los_Angeles:20211207T110000
DTSTAMP:20260420T120958
CREATED:20211203T230342Z
LAST-MODIFIED:20211203T230342Z
UID:2209-1638871200-1638874800@oneeastside.org
SUMMARY:What’s Next for Small Businesses as Covid Capital Relief Funds Wind Down?
DESCRIPTION:Register here \nDecember is the last month to apply for the Small Business Administration’s Economic Injury Disaster Relief program\, one of several government relief programs targeted to small businesses during the coronavirus pandemic. \nThis webinar\, presented by Small Business Majority’s Xiomara Pena\, will cover information you need to know about the EIDL and other capital resources\, including:\n• Latest information on Economic Injury Disaster Loans and Advances\n• Updates on the Employee Retention Tax Credit\n• Other state and local relief programs\n• What’s coming next\n• Question and answer
URL:https://oneeastside.org/event/whats-next-for-small-businesses-as-covid-capital-relief-funds-wind-down/
CATEGORIES:Community Submitted
END:VEVENT
BEGIN:VEVENT
DTSTART;TZID=America/Los_Angeles:20211207T110000
DTEND;TZID=America/Los_Angeles:20211207T120000
DTSTAMP:20260420T120958
CREATED:20211204T001455Z
LAST-MODIFIED:20211204T001455Z
UID:2243-1638874800-1638878400@oneeastside.org
SUMMARY:From Email to Social Media...Marketing that Converts
DESCRIPTION:Register here \nIn today’s world\, social media content is essential for connecting with potential customers.  Content marketing is a proven strategy to generate ongoing traffic\, build trust\, and increase sales. However\, there’s no one-size-fits-all approach for every business. Join us for this interactive webinar on creating digital content that will help you convert your audience into paying customers. \nAfter this webinar\, you’ll be able to develop a strategic and achievable plan to stay connected to your audience\, attract new fans\, and promote your offerings — based on your unique strengths. This session is for any business that can use strategies to communicate with their audience and create messaging that converts to sales…in other words\, any business model will benefit! \nTopics will include: \n\nIdentifying which social media platforms you should be using based on your goals\nStrategies for repurposing content you create\nWhy videos\, images\, and copy are all critical components in your conversion strategy\nTools and resources for helping you execute your plan\n\n  \nThe presenter: \nMia Johnstone is a Washington Small Business Development Center Advisor. She loves copywriting\, customer relationships\, solid branding\, and beautiful photography. She has an MBA and serves Mason\, Pacific\, and Grays Harbor County small businesses with Washington SBDC advising services. \n\nInstructions: \nZoom security protocols now require each participant have a Zoom account and be signed into their account from their computer or mobile device. https://zoom.us/. Test Zoom at https://zoom.us/test
URL:https://oneeastside.org/event/from-email-to-social-media-marketing-that-converts/
CATEGORIES:Community Submitted
END:VEVENT
BEGIN:VEVENT
DTSTART;TZID=America/Los_Angeles:20211207T130000
DTEND;TZID=America/Los_Angeles:20211207T140000
DTSTAMP:20260420T120958
CREATED:20211203T234843Z
LAST-MODIFIED:20211203T234843Z
UID:2242-1638882000-1638885600@oneeastside.org
SUMMARY:Business Growth and Development Strategies
DESCRIPTION:Register here \n\nCould you use a boost to keep your business going and growing? This webinar is designed to give business owners hope and options to survive and thrive in challenging and normal times. \nTopics include: \nTraits of the successful business owner \nBusiness planning \nFunding & Capital Infusion including what you can do to prepare for a loan \nFinancial discipline \nManaging Debt \nCashflow forecasting \nManaging the Supply Chain\, Inventory & Profit Margins \nUnderstanding the Business Market \nManaging Human Resources \nWorking with Landlords \n  \nThe presenters are Steve Burke and Ron Nielsen\, Washington SBDC Certified Business Advisors. See more information about Steve Burke at https://wsbdc.org/south-seattle/ and Ron Nielsen at https://wsbdc.org/wenatchee/ \n\nInstructions: \nA Zoom link for the webinar will be sent prior to the event to those who register. \nOur Zoom security protocols require each participant have a Zoom account and be signed into their account from their computer or mobile device. https://zoom.us/
URL:https://oneeastside.org/event/business-growth-and-development-strategies/
CATEGORIES:General Business Support,Community Submitted
END:VEVENT
END:VCALENDAR