BEGIN:VCALENDAR
VERSION:2.0
PRODID:-//OneEastside - ECPv6.7.0//NONSGML v1.0//EN
CALSCALE:GREGORIAN
METHOD:PUBLISH
X-WR-CALNAME:OneEastside
X-ORIGINAL-URL:https://oneeastside.org
X-WR-CALDESC:Events for OneEastside
REFRESH-INTERVAL;VALUE=DURATION:PT1H
X-Robots-Tag:noindex
X-PUBLISHED-TTL:PT1H
BEGIN:VTIMEZONE
TZID:America/Los_Angeles
BEGIN:DAYLIGHT
TZOFFSETFROM:-0800
TZOFFSETTO:-0700
TZNAME:PDT
DTSTART:20220313T100000
END:DAYLIGHT
BEGIN:STANDARD
TZOFFSETFROM:-0700
TZOFFSETTO:-0800
TZNAME:PST
DTSTART:20221106T090000
END:STANDARD
END:VTIMEZONE
BEGIN:VEVENT
DTSTART;TZID=America/Los_Angeles:20220127T100000
DTEND;TZID=America/Los_Angeles:20220127T100000
DTSTAMP:20260421T024257
CREATED:20220113T212301Z
LAST-MODIFIED:20220113T212301Z
UID:2332-1643277600-1643277600@oneeastside.org
SUMMARY:Creating A Quick Business Plan In Three Hours (JAN)
DESCRIPTION:Register here \nJoin us and other entrepreneurs in this hands-on workshop where you will write your “Unique Value Statement” for your new product or service. This is a concise description of your product or service and explain the unique value your product or service provides to your customers. As part of the workshop\, participants will receive real-time feedback from a SCORE mentor to help them fine tune their Value Statement. \nIn the second part of the workshop you will use the “Lean Canvas” to begin the process of turning your product/service into a business. In this interactive session\, you use the canvas to help guide you in expanding the information in the Unique Value Statement by capturing key ideas\, concepts and strategies about your business in the canvas. This creates a basic framework that you can use to complete YOUR full\, detailed business plan. \nHave paper\, a pencil or a pen ready as the goal of this workshop is for all participants to leave with a draft of their “Unique Value Statement” and “Lean Canvas.” \nListen to what others who have attended this workshop have to say about the instructors and the program: \n· It was a great help to have time to work on a plan and get direct feedback from the instructor! \n· The hands approach of writing my lean canvas in class really helped me think in detail about my business. \n· Really helps simplify the planning process for me! \n· Gave me a structured approach to think through my business. \n· It was a very positive environment; the instructor and other students provided examples on how to improve my plans. \nSCORE’s Small Business Essentials Workshops prepares individuals to make the right decisions and create actionable plans when starting a small business. Whether you are starting a business on your own (one-person business) or a business with employees\, we have the right set of workshops to help you succeed. All the workshops are about three hours in length and taught by experienced SCORE Mentors. See more information on these workshops here. \nPresenter \nThis workshop is presented by SCORE Volunteer\, Traci Harrell. Traci is President of It’s All Bigger Than Me Consulting\, a full-service training and consulting company. She has over 25 years of diverse Business & Leadership Experience\, with 8 years at IBM (both domestic and international)\, 14 years at The Walt Disney Company\, and 5 years at Microsoft. Her areas of business expertise include Strategic Planning\, Business Consulting\, Program & Project Management\, Technology & Innovation\, Customer/Partner Experience\, Business Controls\, and Internal Audit. She is a certified PMP\, Project Management Professional\, with expertise in the Lean Business Solutions. Traci is also an International Best-Selling Author and serves on the Leadership Team for SCORE Greater Seattle Chapter as its Diversity & Inclusion Committee Chair. \nABOUT THE PRESENTER(S)\nTraci Harrell\nMy expertise is in Leadership Training\, and Diversity\, Equity… \nKEY TOPICS\nBusiness Plans/Startup Assistance
URL:https://oneeastside.org/event/creating-a-quick-business-plan-in-three-hours-jan/
CATEGORIES:General Business Support,Starting a Business
END:VEVENT
BEGIN:VEVENT
DTSTART;TZID=America/Los_Angeles:20220127T100000
DTEND;TZID=America/Los_Angeles:20220127T110000
DTSTAMP:20260421T024257
CREATED:20220113T173624Z
LAST-MODIFIED:20220113T173624Z
UID:2327-1643277600-1643281200@oneeastside.org
SUMMARY:Grant Workshop: Recovery Fund for Individuals
DESCRIPTION:Register here \nCome meet grant staff\, ask questions\, and learn from your fellow applicants. Workshops are informal and drop-in. This is a great opportunity to strengthen your application! \nThis workshop will cover our combined Recovery Fund for Individuals. \nThe workshop will take place on Zoom; once you register\, you will receive an email with a link and passcode to join. Live captioning will be available. For additional access support such as language translation or ASL interpretation\, please contact Jackie Mixon at jackie.mixon@4culture.org.
URL:https://oneeastside.org/event/grant-workshop-recovery-fund-for-individuals-2/
CATEGORIES:General Business Support,Non-Profit Training
END:VEVENT
BEGIN:VEVENT
DTSTART;TZID=America/Los_Angeles:20220127T113000
DTEND;TZID=America/Los_Angeles:20220127T130000
DTSTAMP:20260421T024257
CREATED:20211203T234130Z
LAST-MODIFIED:20211203T234130Z
UID:2240-1643283000-1643288400@oneeastside.org
SUMMARY:Business Expert Session: New Year New Profit: Find $10K in Your Business
DESCRIPTION:Register here \nSimple no-cost strategies that immediately increase sales and profits. \nWe will focus on 5 major areas: \n\nMore Leads\nMore Conversions\nMore Transactions\nHigher Prices\nand More Profits\n\n  \nAbout the Presenter: \nIn 2012 Amanda Bedell launched a pop-up bakery and scaled it to a retail and manufacturing facility with 15 employees. As they grew\, Amanda continued to think the paycheck she deserved was just around the next corner of growth. \nThe problem is that the next stage of growth came but the cash flow didn’t. \nShe exited the business exhausted and broke. … Over the last few years\, Amanda has been a sponge soaking up the accounting and financial management techniques of large companies\, merging it with her marketing and employee management background and coming up with business solutions that create RESULTS for micro-businesses to ensure you never break as she did.
URL:https://oneeastside.org/event/business-expert-session-new-year-new-profit-find-10k-in-your-business/
CATEGORIES:Community Submitted
END:VEVENT
BEGIN:VEVENT
DTSTART;TZID=America/Los_Angeles:20220127T140000
DTEND;TZID=America/Los_Angeles:20220127T140000
DTSTAMP:20260421T024257
CREATED:20220113T212551Z
LAST-MODIFIED:20220113T212551Z
UID:2333-1643292000-1643292000@oneeastside.org
SUMMARY:Pay Per Click Advertising - Or How Not to Lose Your Shirt On Google (JAN)
DESCRIPTION:Register here \nThis workshop will cover the following key aspects of advertising on Google: \n1. Introduction to Google advertising \n2. Different types of ads \n3. Keyword and targeting strategies. \n4. Measuring success \nPresenter: \nThis workshop is presented by Matt Cail. Matt started out in the world of message boards and web design. During five years as a Washington\, D.C.\, consultant\, he became knowledgeable about emergency communications and competition in the online video industry. He has worked in social media\, search engine marketing\, web design\, and online advertising. Matt leads Super Charge Marketing\, which is your one-stop social media firm for all of your social media marketing needs! \nKEY TOPICS\nMarketing\, Public Relations & Sales
URL:https://oneeastside.org/event/pay-per-click-advertising-or-how-not-to-lose-your-shirt-on-google-jan/
CATEGORIES:General Business Support
END:VEVENT
BEGIN:VEVENT
DTSTART;TZID=America/Los_Angeles:20220127T183000
DTEND;TZID=America/Los_Angeles:20220127T193000
DTSTAMP:20260421T024257
CREATED:20220104T175541Z
LAST-MODIFIED:20220104T175541Z
UID:2296-1643308200-1643311800@oneeastside.org
SUMMARY:Basic Accounting for Business Management
DESCRIPTION:Register here \nUnderstanding your company’s assets\, liabilities\, income\, costs\, and expenses can give you a clear view of how your team’s goals impact the specific numbers on each financial statement and affect your company’s overall financial health. Attend on Thursday\, Jan. 27\, 2022 at 6:30 p.m. \nThis workshop will help participants develop their skills in the following: \n\nUnderstanding the Balance Sheet\nUnderstanding the Cash Flow\nUnderstanding the P&L\nUnderstanding Key Ratios\nManaging a Budget\nAnalyzing Variance\nDeveloping the Financial Plan for your CPA
URL:https://oneeastside.org/event/basic-accounting-for-business-management/
CATEGORIES:General Business Support,Starting a Business
END:VEVENT
END:VCALENDAR