BEGIN:VCALENDAR
VERSION:2.0
PRODID:-//OneEastside - ECPv6.7.0//NONSGML v1.0//EN
CALSCALE:GREGORIAN
METHOD:PUBLISH
X-WR-CALNAME:OneEastside
X-ORIGINAL-URL:https://oneeastside.org
X-WR-CALDESC:Events for OneEastside
REFRESH-INTERVAL;VALUE=DURATION:PT1H
X-Robots-Tag:noindex
X-PUBLISHED-TTL:PT1H
BEGIN:VTIMEZONE
TZID:America/Los_Angeles
BEGIN:DAYLIGHT
TZOFFSETFROM:-0800
TZOFFSETTO:-0700
TZNAME:PDT
DTSTART:20210314T100000
END:DAYLIGHT
BEGIN:STANDARD
TZOFFSETFROM:-0700
TZOFFSETTO:-0800
TZNAME:PST
DTSTART:20211107T090000
END:STANDARD
END:VTIMEZONE
BEGIN:VEVENT
DTSTART;TZID=America/Los_Angeles:20210617T100000
DTEND;TZID=America/Los_Angeles:20210617T110000
DTSTAMP:20260420T095849
CREATED:20210616T174123Z
LAST-MODIFIED:20210616T174123Z
UID:350-1623924000-1623927600@oneeastside.org
SUMMARY:Return to Work for Employers: Preparing the Workplace and Workforce
DESCRIPTION:More information and register here: https://oneeastside.org/program/return-to-work-hr-webinar/ \nWith Governor Inslee’s announcement that that the state is moving toward a statewide reopening date on June 30\, 2021\, many organizations are reviewing plans to return to their physical offices. After navigating a remote workforce for just over a year\, employers face the unique challenge of preparing both their workplace and their workforce. \nThe uncertainty of the “new normal” is forcing employers to consider various new policies as employees return to the workplace. To properly navigate the complexities of these COVID-19 employment issues\, you need innovative\, practical solutions. \nDiscussion topics include: \n\nSafety protocols in the workplace.\nStrategies for communicating the transition with your workforce and your legal obligations for accommodations.\nPreparing vaccination policies for an in-person workplace.\nReasonable accommodation obligations.
URL:https://oneeastside.org/event/return-to-work-for-employers-preparing-the-workplace-and-workforce/
CATEGORIES:OneEastside Spark Event
END:VEVENT
END:VCALENDAR